BEGIN:VCALENDAR
VERSION:2.0
PRODID:-//FRISCHELOGISTIK - ECPv6.15.20//NONSGML v1.0//EN
CALSCALE:GREGORIAN
METHOD:PUBLISH
X-WR-CALNAME:FRISCHELOGISTIK
X-ORIGINAL-URL:https://www.frischelogistik.com
X-WR-CALDESC:Veranstaltungen für FRISCHELOGISTIK
REFRESH-INTERVAL;VALUE=DURATION:PT1H
X-Robots-Tag:noindex
X-PUBLISHED-TTL:PT1H
BEGIN:VTIMEZONE
TZID:Europe/Berlin
BEGIN:DAYLIGHT
TZOFFSETFROM:+0100
TZOFFSETTO:+0200
TZNAME:CEST
DTSTART:20180325T010000
END:DAYLIGHT
BEGIN:STANDARD
TZOFFSETFROM:+0200
TZOFFSETTO:+0100
TZNAME:CET
DTSTART:20181028T010000
END:STANDARD
BEGIN:DAYLIGHT
TZOFFSETFROM:+0100
TZOFFSETTO:+0200
TZNAME:CEST
DTSTART:20190331T010000
END:DAYLIGHT
BEGIN:STANDARD
TZOFFSETFROM:+0200
TZOFFSETTO:+0100
TZNAME:CET
DTSTART:20191027T010000
END:STANDARD
BEGIN:DAYLIGHT
TZOFFSETFROM:+0100
TZOFFSETTO:+0200
TZNAME:CEST
DTSTART:20200329T010000
END:DAYLIGHT
BEGIN:STANDARD
TZOFFSETFROM:+0200
TZOFFSETTO:+0100
TZNAME:CET
DTSTART:20201025T010000
END:STANDARD
END:VTIMEZONE
BEGIN:VEVENT
DTSTART;TZID=Europe/Berlin:20190409T100000
DTEND;TZID=Europe/Berlin:20190409T150000
DTSTAMP:20260423T163437
CREATED:20190206T155347Z
LAST-MODIFIED:20190206T155347Z
UID:1414-1554804000-1554822000@www.frischelogistik.com
SUMMARY:Fortbildung „Reifung von Bananen und Zitrusfrüchten mit Ethylen/Banarg“
DESCRIPTION:Eine Fortbildungsmaßnahme nach §7 Pflanzenschutz-Sachkundeverordnung (PflSchSachkV) mit dem Titel „Reifung von Bananen und Zitrusfrüchten mit Ethylen/Banarg“ veranstaltet Linde am 9. April in Unterschleißheim bei München. Banarg ist der Markenname eines Gasgemischs aus 96 Prozent Stickstoff und 4 Prozent Ethylen zur Reifebeschleunigung und Fruchtentgrünung. Die Anwendung dieser – als Wachstumsregler zugelassenen – Pflanzenschutzmittel erfordert einen behördlichen „Sachkundenachweis Pflanzenschutz“. Mit dem neuen Halbtagesseminar erweitert Linde das Programm der Liprotect-Fachschulungen um ein\nspezielles Angebot für alle\, die beruflich Wachstumsregler anwenden\, zum Pflanzenschutz beraten oder andere nichtsachkundige Personen anleiten. Wesentliche Inhalte sind Rechtsgrundlagen\, integrierter Pflanzenschutz\, Kennzeichnung und Zulassung von Pflanzenschutzmitteln\, der sichere Umgang mit Gasen sowie Verhaltensmaßnahmen im Notfall.\nDie Fortbildungsmaßnahme ist durch die Bayerische Landesanstalt für Landwirtschaft als Fortbildungsmaßnahme nach §7 Pflanzenschutz-Sachkundeverordnung (PflSchSachkV) anerkannt. Das heißt: Sie schafft die Voraussetzung für die Erteilung des „Sachkundenachweis Pflanzenschutz“ durch die zuständige Behörde des jeweiligen Bundeslandes. Nach bestandener\, behördlicher Prüfung erhält der Teilnehmer ein Zeugnis\, mit dem der Sachkundenachweis beantragt werden kann. Die Gültigkeit des Sachkundenachweises beträgt drei Jahre. Innerhalb dieses Zeitraumes muss die Fort- und Weiterbildung zur Sachkunde wiederholt werden.
URL:https://www.frischelogistik.com/event/beispielkalendereintrag-4-2-2/
LOCATION:Unterschleißheim bei München\, Deutschland
ORGANIZER;CN="Linde AG %E2%80%94Linde Gases Division":MAILTO:liprotect@linde.com
END:VEVENT
END:VCALENDAR